BEGIN:VCALENDAR
VERSION:2.0
PRODID:icalendar-ruby
CALSCALE:GREGORIAN
METHOD:PUBLISH
BEGIN:VEVENT
DTSTAMP:20260423T191228Z
UID:3-1293785@forestpentecostal.com
DTSTART:20261007T230000Z
DTEND:20261008T000000Z
CLASS:PUBLIC
CREATED:20260423T122631
DESCRIPTION:
LAST-MODIFIED:20260423T122631
LOCATION:24 Prince St.  Forest\, ON
SUMMARY:Wednesday Night Prayer Meeting
URL;VALUE=URI:https://www.forestpentecostal.com/events/wednesday-night-pray
 er-meeting/2026-10-07
ATTACH;FILENAME=ben-white-292680-unsplash.jpg;FMTTYPE=image/jpeg:https://dq
 5pwpg1q8ru0.cloudfront.net/2019/04/15/10/55/53/e06acc18-4e98-4277-9ad7-b49
 a843571cf/ben-white-292680-unsplash.jpg
END:VEVENT
END:VCALENDAR
