BEGIN:VCALENDAR
VERSION:2.0
PRODID:icalendar-ruby
CALSCALE:GREGORIAN
METHOD:PUBLISH
BEGIN:VEVENT
DTSTAMP:20260423T194821Z
UID:6-1294731@forestpentecostal.com
DTSTART:20261029T230000Z
DTEND:20261030T003000Z
CLASS:PUBLIC
CREATED:20260423T152345
DESCRIPTION:
LAST-MODIFIED:20260423T152345
LOCATION:24 Prince St Forest ON\, N0N 1J0\, Canada
SUMMARY:Mens Bible Study
URL;VALUE=URI:https://www.forestpentecostal.com/events/mens-bible-study/202
 6-10-29
END:VEVENT
END:VCALENDAR
