BEGIN:VCALENDAR
VERSION:2.0
PRODID:icalendar-ruby
CALSCALE:GREGORIAN
METHOD:PUBLISH
BEGIN:VEVENT
DTSTAMP:20260423T165552Z
UID:6-1293953@forestpentecostal.com
DTSTART:20261015T230000Z
DTEND:20261016T003000Z
CLASS:PUBLIC
CREATED:20260423T122632
DESCRIPTION:
LAST-MODIFIED:20260423T122632
LOCATION:24 Prince St Forest ON\, N0N 1J0\, Canada
SUMMARY:Mens Bible Study
URL;VALUE=URI:https://www.forestpentecostal.com/events/mens-bible-study/202
 6-10-15
END:VEVENT
END:VCALENDAR
